BEGIN:VCALENDAR
VERSION:2.0
CALSCALE:GREGORIAN
PRODID:-//Diputació de Barcelona//DibaCMS//EN
BEGIN:VEVENT
UID:5656
DTSTAMP:20260423T031405
DTSTART:20121220T000000
DTEND:20131220T000000
SUMMARY:El servei de recollida d'escombraries de la Llagosta incorpora tres vehicles elèctrics
LOCATION:
METHOD:PUBLISH
X-WR-CALNAME:llagosta@llagosta.cat
X-WR-TIMEZONE:Europe/Madrid
DESCRIPTION:L'empresa que s'encarrega de la recollida d'escombraries a la Llagosta, SERSA, ha començat a treballar aquesta setmana amb tres vehicles elèctrics. Es tracta d'uns vehicles lleugers que els operaris fan servir per recollir brossa després d'escombrar i els residus dipositats a les papereres.
URI:https://www.llagosta.cat/actualitat/noticies/el-servei-de-recollida-descombraries-de-la-llagosta-incorpora-tres-vehicles-electrics.html
CLASS:PUBLIC
END:VEVENT
END:VCALENDAR
