BEGIN:VCALENDAR
VERSION:2.0
CALSCALE:GREGORIAN
PRODID:-//Diputació de Barcelona//DibaCMS//EN
BEGIN:VEVENT
UID:5655
DTSTAMP:20260423T051456
DTSTART:20121219T000000
DTEND:20131219T000000
SUMMARY:La continuïtat de José Luis Gutiérrez al govern municipal provoca reaccions diferents
LOCATION:
METHOD:PUBLISH
X-WR-CALNAME:llagosta@llagosta.cat
X-WR-TIMEZONE:Europe/Madrid
DESCRIPTION:Els grups municipals de l'Ajuntament de la Llagosta han considerat de forma diferent la continuïtat de José Luis Gutiérrez, fins ara regidor de Convergència i Unió, a l'equip de govern municipal, després del trencament del pacte de CiU amb ICV-EUIA i CPLL. L'alcalde, Alberto López, manté les delegacions de Gutiérrez (Serveis Municipals i Comerç i Consum) i li atorga la delegació de Manteniment Urbà.
URI:https://www.llagosta.cat/actualitat/noticies/la-continuitat-de-jose-luis-gutierrez-al-govern-municipal-provoca-reaccions-diferents.html
CLASS:PUBLIC
END:VEVENT
END:VCALENDAR
