BEGIN:VCALENDAR
VERSION:2.0
CALSCALE:GREGORIAN
PRODID:-//Diputació de Barcelona//DibaCMS//EN
BEGIN:VEVENT
UID:5654
DTSTAMP:20260423T070710
DTSTART:20121219T000000
DTEND:20131219T000000
SUMMARY:La Coral Miranda recapta 200 euros per a la Marató de TV3
LOCATION:
METHOD:PUBLISH
X-WR-CALNAME:llagosta@llagosta.cat
X-WR-TIMEZONE:Europe/Madrid
DESCRIPTION:La Coral Miranda de la Llagosta va recollir uns 200 euros per a la Marató de TV3 durant el Concert de Nadal de diumenge. El recital es va celebrar al Centre Cultural. A més de la Coral Miranda, també va actuar la coral Airiños Galegos, de l'Agrupación Cultural Galega Alborada de la Llagosta.
URI:https://www.llagosta.cat/actualitat/noticies/la-coral-miranda-recapta-200-euros-per-a-la-marato-de-tv3.html
CLASS:PUBLIC
END:VEVENT
END:VCALENDAR
