BEGIN:VCALENDAR
VERSION:2.0
CALSCALE:GREGORIAN
PRODID:-//Diputació de Barcelona//DibaCMS//EN
BEGIN:VEVENT
UID:5653
DTSTAMP:20260423T031227
DTSTART:20121219T000000
DTEND:20131219T000000
SUMMARY:El Vallag suma una important victòria davant el Sant Martí Adrianenc (33-30)
LOCATION:
METHOD:PUBLISH
X-WR-CALNAME:llagosta@llagosta.cat
X-WR-TIMEZONE:Europe/Madrid
DESCRIPTION:El sènior de l'Handbol Club Vallag de la Llagosta va vèncer el cap de setmana passat el Sant Martí Adrianenc per 33 a 30. Els de la nostra localitat van aprofitar aquest partit per continuar recaptant fons per a la Marató de TV3. 

URI:https://www.llagosta.cat/actualitat/noticies/el-vallag-suma-una-important-victoria-davant-el-sant-marti-adrianenc-33-30.html
CLASS:PUBLIC
END:VEVENT
END:VCALENDAR
