BEGIN:VCALENDAR
VERSION:2.0
CALSCALE:GREGORIAN
PRODID:-//Diputació de Barcelona//DibaCMS//EN
BEGIN:VEVENT
UID:5652
DTSTAMP:20260422T214229
DTSTART:20121219T000000
DTEND:20131219T000000
SUMMARY:La Ràdio Marató Solidària de Ràdio la Llagosta i Creu Roja arriba demà a la seva dotzena edició
LOCATION:
METHOD:PUBLISH
X-WR-CALNAME:llagosta@llagosta.cat
X-WR-TIMEZONE:Europe/Madrid
DESCRIPTION:Ràdio la Llagosta i Creu Roja Mollet – Baix Vallès organitzarem demà la dotzena edició de la Ràdio Marató Solidària. Com en els darrers anys, la Ràdio Marató es farà de 10 a 13 hores. A la  cantonada del carrer de l'Estació amb el de Vic, al costat de l'ambulatori, hi haurà un estand en el qual els veïns i entitats de la nostra localitat podran fer les seves aportacions. 
URI:https://www.llagosta.cat/actualitat/noticies/la-radio-marato-solidaria-de-radio-la-llagosta-i-creu-roja-arriba-dema-a-la-seva-dotzena-edicio.html
CLASS:PUBLIC
END:VEVENT
END:VCALENDAR
