BEGIN:VCALENDAR
VERSION:2.0
CALSCALE:GREGORIAN
PRODID:-//Diputació de Barcelona//DibaCMS//EN
BEGIN:VEVENT
UID:5651
DTSTAMP:20260423T092521
DTSTART:20121218T000000
DTEND:20131218T000000
SUMMARY:L'alcalde signa el decret de reorganització del govern de l'Ajuntament de la Llagosta
LOCATION:
METHOD:PUBLISH
X-WR-CALNAME:llagosta@llagosta.cat
X-WR-TIMEZONE:Europe/Madrid
DESCRIPTION:L'alcalde de la Llagosta, Alberto López, ha signat avui el decret de reorganització del govern municipal després de la sortida de CiU de l'acord que mantenen ICV-EUiA i CPLL. Així, les competències d'Educació i Salut Pública, que fins ara tenia delegades la regidora convergent Mireia Egea, s'atorguen a la regidora Virginia Jiménez (ICV-EUiA), i Infància, a la regidora Eva Miguel (ICV-EUiA).
URI:https://www.llagosta.cat/actualitat/noticies/lalcalde-signa-el-decret-de-reorganitzacio-del-govern-de-lajuntament-de-la-llagosta.html
CLASS:PUBLIC
END:VEVENT
END:VCALENDAR
