BEGIN:VCALENDAR
VERSION:2.0
CALSCALE:GREGORIAN
PRODID:-//Diputació de Barcelona//DibaCMS//EN
BEGIN:VEVENT
UID:5650
DTSTAMP:20260423T051240
DTSTART:20121218T000000
DTEND:20131218T000000
SUMMARY:L'Asociación Rociera Andaluza, satisfeta amb els dos actes solidaris del cap de setmana
LOCATION:
METHOD:PUBLISH
X-WR-CALNAME:llagosta@llagosta.cat
X-WR-TIMEZONE:Europe/Madrid
DESCRIPTION:L'Asociación Rociera Andaluza de la Llagosta ha fet avui un balanç positiu de les dues activitats que va organitzar el cap de setmana passat per recollir aliments i joguines per a famílies necessitades de la nostra localitat. 
URI:https://www.llagosta.cat/actualitat/noticies/lasociacion-rociera-andaluza-satisfeta-amb-els-dos-actes-solidaris-del-cap-de-setmana.html
CLASS:PUBLIC
END:VEVENT
END:VCALENDAR
