BEGIN:VCALENDAR
VERSION:2.0
CALSCALE:GREGORIAN
PRODID:-//Diputació de Barcelona//DibaCMS//EN
BEGIN:VEVENT
UID:5649
DTSTAMP:20260423T071026
DTSTART:20121218T000000
DTEND:20131218T000000
SUMMARY:Un centenar de nens de la Llagosta es beneficiaran de la campanya de joguines de Creu Roja
LOCATION:
METHOD:PUBLISH
X-WR-CALNAME:llagosta@llagosta.cat
X-WR-TIMEZONE:Europe/Madrid
DESCRIPTION:Creu Roja ha iniciat una campanya de recollida de joguines per tal que cap nen no es quedi sense regal la nit de Reis. Un equip de voluntariat de més de 1.200 persones participa en aquesta iniciativa solidària, que es durà a terme en 309 municipis catalans. 
URI:https://www.llagosta.cat/actualitat/noticies/un-centenar-de-nens-de-la-llagosta-es-beneficiaran-de-la-campanya-de-joguines-de-creu-roja.html
CLASS:PUBLIC
END:VEVENT
END:VCALENDAR
