BEGIN:VCALENDAR
VERSION:2.0
CALSCALE:GREGORIAN
PRODID:-//Diputació de Barcelona//DibaCMS//EN
BEGIN:VEVENT
UID:5648
DTSTAMP:20260423T073900
DTSTART:20121218T000000
DTEND:20131218T000000
SUMMARY:El Viejas Glorias s'avança en el marcador però acaba perdent al camp del Llano per 3 a 1
LOCATION:
METHOD:PUBLISH
X-WR-CALNAME:llagosta@llagosta.cat
X-WR-TIMEZONE:Europe/Madrid
DESCRIPTION:El Club Deportivo Viejas Glorias va perdre la jornada passada per 3 a 1 al camp del Llano, que és un dels equips que encapçala la classificació. Els llagostencs es van avançar al marcador, però van anar de més a menys i al final van ser superats per un conjunt que va jugar tota la segona part amb deu homes.
URI:https://www.llagosta.cat/actualitat/noticies/el-viejas-glorias-savanca-en-el-marcador-pero-acaba-perdent-al-camp-del-llano-per-3-a-1.html
CLASS:PUBLIC
END:VEVENT
END:VCALENDAR
