BEGIN:VCALENDAR
VERSION:2.0
CALSCALE:GREGORIAN
PRODID:-//Diputació de Barcelona//DibaCMS//EN
BEGIN:VEVENT
UID:5647
DTSTAMP:20260423T053108
DTSTART:20121217T000000
DTEND:20131217T000000
SUMMARY:La Unión Llagostense derrota el Sansur (3-2) i acaba l'any en segona posició
LOCATION:
METHOD:PUBLISH
X-WR-CALNAME:llagosta@llagosta.cat
X-WR-TIMEZONE:Europe/Madrid
DESCRIPTION:El Fútbol Sala Unión Llagostense ha pujat fins a la segona posició després de guanyar el Sansur i que els dos primers classificats perdessin el cap de setmana. Els llagostencs es van desfer del Sansur per 3 a 2 en un partit molt complicat.
URI:https://www.llagosta.cat/actualitat/noticies/la-union-llagostense-derrota-el-sansur-3-2-i-acaba-lany-en-segona-posicio.html
CLASS:PUBLIC
END:VEVENT
END:VCALENDAR
