BEGIN:VCALENDAR
VERSION:2.0
CALSCALE:GREGORIAN
PRODID:-//Diputació de Barcelona//DibaCMS//EN
BEGIN:VEVENT
UID:5646
DTSTAMP:20260423T011550
DTSTART:20121217T000000
DTEND:20131217T000000
SUMMARY:Se signa a la Llagosta un conveni amb els comerciants per afavorir la pràctica del català
LOCATION:
METHOD:PUBLISH
X-WR-CALNAME:llagosta@llagosta.cat
X-WR-TIMEZONE:Europe/Madrid
DESCRIPTION:El Centre de Normalització Lingüística del Vallès Oriental ha signat un acord amb l'Associació de Comerciants i Serveis de la Llagosta (ACIS) i l’Associació de Concessionaris del Mercat Municipal per promoure el Voluntariat per la Llengua. Amb aquest acte es formalitza una col·laboració que ja fa dos anys que està en marxa.
URI:https://www.llagosta.cat/actualitat/noticies/se-signa-a-la-llagosta-un-conveni-amb-els-comerciants-per-afavorir-la-practica-del-catala.html
CLASS:PUBLIC
END:VEVENT
END:VCALENDAR
