BEGIN:VCALENDAR
VERSION:2.0
CALSCALE:GREGORIAN
PRODID:-//Diputació de Barcelona//DibaCMS//EN
BEGIN:VEVENT
UID:5645
DTSTAMP:20260423T112730
DTSTART:20121217T000000
DTEND:20131217T000000
SUMMARY:Avui ha començat la Fira de Nadal i l'encesa dels llums nadalencs es va fer divendres
LOCATION:
METHOD:PUBLISH
X-WR-CALNAME:llagosta@llagosta.cat
X-WR-TIMEZONE:Europe/Madrid
DESCRIPTION:Avui ha començat la Fira de Nadal, que, per segon any seguit, organitza l'Ajuntament de la Llagosta. L'activitat es desenvoluparà a la plaça d'Antoni Baqué fins al 24 de desembre en horari de dotze del migdia a nou del vespre.
URI:https://www.llagosta.cat/actualitat/noticies/avui-ha-comencat-la-fira-de-nadal-i-lencesa-dels-llums-nadalencs-es-va-fer-divendres.html
CLASS:PUBLIC
END:VEVENT
END:VCALENDAR
