BEGIN:VCALENDAR
VERSION:2.0
CALSCALE:GREGORIAN
PRODID:-//Diputació de Barcelona//DibaCMS//EN
BEGIN:VEVENT
UID:5644
DTSTAMP:20260423T032812
DTSTART:20121214T000000
DTEND:20131214T000000
SUMMARY:L'alcalde, Alberto López, remodelarà el govern municipal després de la sortida de CiU
LOCATION:
METHOD:PUBLISH
X-WR-CALNAME:llagosta@llagosta.cat
X-WR-TIMEZONE:Europe/Madrid
DESCRIPTION:L'alcalde de la Llagosta, Alberto López, ha declarat avui que aviat reestructurarà el govern municipal, després del trencament del pacte que Iniciativa – Esquerra Unida i Ciutadans Progressistes tenien signat amb Convergència i Unió. López ha indicat que, a molt trigar a començaments de la propera setmana, signarà el decret amb el nou cartipàs municipal.
URI:https://www.llagosta.cat/actualitat/noticies/lalcalde-alberto-lopez-remodelara-el-govern-municipal-despres-de-la-sortida-de-ciu.html
CLASS:PUBLIC
END:VEVENT
END:VCALENDAR
