BEGIN:VCALENDAR
VERSION:2.0
CALSCALE:GREGORIAN
PRODID:-//Diputació de Barcelona//DibaCMS//EN
BEGIN:VEVENT
UID:5643
DTSTAMP:20260423T053035
DTSTART:20121214T000000
DTEND:20131214T000000
SUMMARY:Els alumnes de cant del grup de teatre TELL faran demà un concert
LOCATION:
METHOD:PUBLISH
X-WR-CALNAME:llagosta@llagosta.cat
X-WR-TIMEZONE:Europe/Madrid
DESCRIPTION:El grup de teatre TELL de la nostra localitat organitza aquest dissabte un concert de cant coral. El recital es farà a l'antic Centre Cultural del carrer de la Florida a partir de 18 h i es presenta sota el títol de Noche en Vela.
URI:https://www.llagosta.cat/actualitat/noticies/els-alumnes-de-cant-del-grup-de-teatre-tell-faran-dema-un-concert.html
CLASS:PUBLIC
END:VEVENT
END:VCALENDAR
