BEGIN:VCALENDAR
VERSION:2.0
CALSCALE:GREGORIAN
PRODID:-//Diputació de Barcelona//DibaCMS//EN
BEGIN:VEVENT
UID:5642
DTSTAMP:20260422T232418
DTSTART:20121214T000000
DTEND:20131214T000000
SUMMARY:L'Associació Bollywood la Llagosta dedicarà el seu aniversari a la Marató de TV3
LOCATION:
METHOD:PUBLISH
X-WR-CALNAME:llagosta@llagosta.cat
X-WR-TIMEZONE:Europe/Madrid
DESCRIPTION:L'Associació de dansa hindú Bollywood la Llagosta celebrarà demà el seu segon aniversari. L'entitat ha preparat una actuació especial amb dos grups més convidats que es farà al Centre Cultural. L'acte servirà per recaptar fons per a la Marató de TV3.
URI:https://www.llagosta.cat/actualitat/noticies/lassociacio-bollywood-la-llagosta-dedicara-el-seu-aniversari-a-la-marato-de-tv3.html
CLASS:PUBLIC
END:VEVENT
END:VCALENDAR
