BEGIN:VCALENDAR
VERSION:2.0
CALSCALE:GREGORIAN
PRODID:-//Diputació de Barcelona//DibaCMS//EN
BEGIN:VEVENT
UID:5641
DTSTAMP:20260422T234425
DTSTART:20121214T000000
DTEND:20131214T000000
SUMMARY:L'Asociación Rociera recollirà aliments i joguines per ajudar a famílies necessitades de la Llagosta
LOCATION:
METHOD:PUBLISH
X-WR-CALNAME:llagosta@llagosta.cat
X-WR-TIMEZONE:Europe/Madrid
DESCRIPTION:L’Asociación Rociera Andaluza de la Llagosta organitza aquest cap de setmana dues accions solidàries, el Festival de nadales, amb la recaptació d'aliments, i una recollida de joguines. Els dos actes es faran enguany a la nova seu de l'entitat, al carrer de Girona, número 6.
URI:https://www.llagosta.cat/actualitat/noticies/lasociacion-rociera-recollira-aliments-i-joguines-per-ajudar-a-families-necessitades-de-la-llagosta.html
CLASS:PUBLIC
END:VEVENT
END:VCALENDAR
