BEGIN:VCALENDAR
VERSION:2.0
CALSCALE:GREGORIAN
PRODID:-//Diputació de Barcelona//DibaCMS//EN
BEGIN:VEVENT
UID:5640
DTSTAMP:20260423T031516
DTSTART:20121214T000000
DTEND:20131214T000000
SUMMARY:La Coral Miranda recaptarà fons per a la Marató de TV3 al Concert de Nadal
LOCATION:
METHOD:PUBLISH
X-WR-CALNAME:llagosta@llagosta.cat
X-WR-TIMEZONE:Europe/Madrid
DESCRIPTION:La Coral Miranda de la Llagosta recollirà fons per a la Marató de TV3 durant el Concert de Nadal que farà diumenge al Centre Cultural. El recital començarà a les 19.30 h.
URI:https://www.llagosta.cat/actualitat/noticies/la-coral-miranda-recaptara-fons-per-a-la-marato-de-tv3-al-concert-de-nadal.html
CLASS:PUBLIC
END:VEVENT
END:VCALENDAR
