BEGIN:VCALENDAR
VERSION:2.0
CALSCALE:GREGORIAN
PRODID:-//Diputació de Barcelona//DibaCMS//EN
BEGIN:VEVENT
UID:5639
DTSTAMP:20260423T052851
DTSTART:20121214T000000
DTEND:20131214T000000
SUMMARY:Un centenar de persones tornen a manifestar-se contra les retallades en els serveis públics
LOCATION:
METHOD:PUBLISH
X-WR-CALNAME:llagosta@llagosta.cat
X-WR-TIMEZONE:Europe/Madrid
DESCRIPTION:Un centenar de persones es van manifestar ahir per segona vegada pels carrers de la Llagosta en defensa dels serveis públics i contra les mesures del govern central i la Generalitat en matèria social i laboral. La manifestació estava convocada novament per treballadors públics de la Llagosta, concretament d'ensenyament, sanitat i administració local, i les AMPA de la nostra localitat. 
URI:https://www.llagosta.cat/actualitat/noticies/un-centenar-de-persones-tornen-a-manifestar-se-contra-les-retallades-en-els-serveis-publics.html
CLASS:PUBLIC
END:VEVENT
END:VCALENDAR
