BEGIN:VCALENDAR
VERSION:2.0
CALSCALE:GREGORIAN
PRODID:-//Diputació de Barcelona//DibaCMS//EN
BEGIN:VEVENT
UID:5638
DTSTAMP:20260422T232657
DTSTART:20121214T000000
DTEND:20131214T000000
SUMMARY:El sènior de l'EBC la Llagosta rebrà aquest dissabte la visita de l'Ametlla
LOCATION:
METHOD:PUBLISH
X-WR-CALNAME:llagosta@llagosta.cat
X-WR-TIMEZONE:Europe/Madrid
DESCRIPTION:L'Esportiu Bàsquet Club de la Llagosta reprendrà la competició demà, després de la jornada de descans del cap de setmana passat. Els de la nostra localitat rebran la visita de l'Ametlla. Tots dos equips estan empatats a punts a la taula classificatòria.
URI:https://www.llagosta.cat/actualitat/noticies/el-senior-de-lebc-la-llagosta-rebra-aquest-dissabte-la-visita-de-lametlla.html
CLASS:PUBLIC
END:VEVENT
END:VCALENDAR
