BEGIN:VCALENDAR
VERSION:2.0
CALSCALE:GREGORIAN
PRODID:-//Diputació de Barcelona//DibaCMS//EN
BEGIN:VEVENT
UID:5637
DTSTAMP:20260422T234510
DTSTART:20121213T000000
DTEND:20131213T000000
SUMMARY:CiU surt del pacte de govern i ICV-EUiA i CPLL governaran en minoria
LOCATION:
METHOD:PUBLISH
X-WR-CALNAME:llagosta@llagosta.cat
X-WR-TIMEZONE:Europe/Madrid
DESCRIPTION:El pacte de govern municipal entre Iniciativa per Catalunya Verds – Esquerra Unida i Alternativa, Convergència i Unió i Ciutadans Progressistes per la Llagosta s'ha trencat. Els tres grups municipals van mantenir dilluns passat una reunió per parlar sobre el posicionament de CiU davant l'acord del darrer ple pel qual la regidora d'Economia i Hisenda, Marta Melgar, passava a estar a dedicació exclusiva.
URI:https://www.llagosta.cat/actualitat/noticies/ciu-surt-del-pacte-de-govern-i-icv-euia-i-cpll-governaran-en-minoria.html
CLASS:PUBLIC
END:VEVENT
END:VCALENDAR
