BEGIN:VCALENDAR
VERSION:2.0
CALSCALE:GREGORIAN
PRODID:-//Diputació de Barcelona//DibaCMS//EN
BEGIN:VEVENT
UID:5636
DTSTAMP:20260423T092051
DTSTART:20121213T000000
DTEND:20131213T000000
SUMMARY:David Soria convocat per la selecció abosluta de la Federació Catalana de Futbol Sala
LOCATION:
METHOD:PUBLISH
X-WR-CALNAME:llagosta@llagosta.cat
X-WR-TIMEZONE:Europe/Madrid
DESCRIPTION:El llagostenc David Soria ha estat convocat per la selecció absoluta de la Federació Catalana de Futbol Sala. Soria començarà els entrenaments aquest diumenge a la Garriga.
URI:https://www.llagosta.cat/actualitat/noticies/david-soria-convocat-per-la-seleccio-abosluta-de-la-federacio-catalana-de-futbol-sala.html
CLASS:PUBLIC
END:VEVENT
END:VCALENDAR
