BEGIN:VCALENDAR
VERSION:2.0
CALSCALE:GREGORIAN
PRODID:-//Diputació de Barcelona//DibaCMS//EN
BEGIN:VEVENT
UID:5635
DTSTAMP:20260422T214316
DTSTART:20121213T000000
DTEND:20131213T000000
SUMMARY:L'Handbol Club Vallag perd contra el líder, la Salle Bonanova B
LOCATION:
METHOD:PUBLISH
X-WR-CALNAME:llagosta@llagosta.cat
X-WR-TIMEZONE:Europe/Madrid
DESCRIPTION:El sènior de l'Handbol Club Vallag de la Llagosta jugarà el proper cap de setmana contra el Sant Martí Adrianenc. Els de la nostra localitat aprofitaran aquest partit per realitzar el segon sorteig que servirà per recaptar fons per a la Marató de TV3. El Vallag va perdre la jornada passada per un ajustat 27 a 28 davant el líder de la competició, la Salle Bonanova B.
URI:https://www.llagosta.cat/actualitat/noticies/lhandbol-club-vallag-perd-contra-el-lider-la-salle-bonanova-b.html
CLASS:PUBLIC
END:VEVENT
END:VCALENDAR
