BEGIN:VCALENDAR
VERSION:2.0
CALSCALE:GREGORIAN
PRODID:-//Diputació de Barcelona//DibaCMS//EN
BEGIN:VEVENT
UID:5634
DTSTAMP:20260423T120333
DTSTART:20121213T000000
DTEND:20131213T000000
SUMMARY:El Joventut Handbol jugarà a la pista del Sant Sadurní
LOCATION:
METHOD:PUBLISH
X-WR-CALNAME:llagosta@llagosta.cat
X-WR-TIMEZONE:Europe/Madrid
DESCRIPTION:El Joventut Handbol La Llagosta jugarà la propera jornada a la pista del Sant Sadurní. Els de la nostra localitat, que són líders en solitari, s'enfrontaran a un equip que encara no ha puntuat aquesta temporada. D'altra banda, el club va recaptar la setmana passada més de 400 euros per la Marató de TV3.
URI:https://www.llagosta.cat/actualitat/noticies/el-joventut-handbol-jugara-a-la-pista-del-sant-sadurni.html
CLASS:PUBLIC
END:VEVENT
END:VCALENDAR
