BEGIN:VCALENDAR
VERSION:2.0
CALSCALE:GREGORIAN
PRODID:-//Diputació de Barcelona//DibaCMS//EN
BEGIN:VEVENT
UID:5633
DTSTAMP:20260422T232518
DTSTART:20121212T000000
DTEND:20131212T000000
SUMMARY:Els Mossos d'Esquadra i la Policia Local faran patrulles mixtes durant les festes de Nadal
LOCATION:
METHOD:PUBLISH
X-WR-CALNAME:llagosta@llagosta.cat
X-WR-TIMEZONE:Europe/Madrid
DESCRIPTION:Els Mossos d'Esquadra han posat en marxa un any més l'operació Grèvol, un dispositiu especial de seguretat per evitar delictes durant les festes nadalenques. A la nostra població, durant els propers dies, hi haurà patrulles mixtes de policies locals i mossos d'esquadra.
URI:https://www.llagosta.cat/actualitat/noticies/els-mossos-desquadra-i-la-policia-local-faran-patrulles-mixtes-durant-les-festes-de-nadal.html
CLASS:PUBLIC
END:VEVENT
END:VCALENDAR
