BEGIN:VCALENDAR
VERSION:2.0
CALSCALE:GREGORIAN
PRODID:-//Diputació de Barcelona//DibaCMS//EN
BEGIN:VEVENT
UID:5632
DTSTAMP:20260423T110742
DTSTART:20121212T000000
DTEND:20131212T000000
SUMMARY:El Casal Infantil de la Llagosta se sumarà demà a les activitats a favor de la Marató de TV3
LOCATION:
METHOD:PUBLISH
X-WR-CALNAME:llagosta@llagosta.cat
X-WR-TIMEZONE:Europe/Madrid
DESCRIPTION:El Casal Infantil de la Llagosta organitzarà demà una activitat dedicada a la Marató de TV3. Entre les 17.30 i les 19 hores, tindrà lloc al passeig de l'avinguda de l'Onze de setembre un taller per a les famílies i nens de creació d'ambientadors ecològics. Aquests productes es vendran al preu d'un euro i la recaptació es destinarà a la Marató de TV3. 
URI:https://www.llagosta.cat/actualitat/noticies/el-casal-infantil-de-la-llagosta-se-sumara-dema-a-les-activitats-a-favor-de-la-marato-de-tv3.html
CLASS:PUBLIC
END:VEVENT
END:VCALENDAR
