BEGIN:VCALENDAR
VERSION:2.0
CALSCALE:GREGORIAN
PRODID:-//Diputació de Barcelona//DibaCMS//EN
BEGIN:VEVENT
UID:5631
DTSTAMP:20260422T234332
DTSTART:20121212T000000
DTEND:20131212T000000
SUMMARY:El Club Deportivo La Concòrdia defensa dissabte el liderat a casa contra el tercer classificat
LOCATION:
METHOD:PUBLISH
X-WR-CALNAME:llagosta@llagosta.cat
X-WR-TIMEZONE:Europe/Madrid
DESCRIPTION:El Club Deportivo La Concòrdia, que és el líder, rebrà dissabte la visita del tercer classificat, l'Hospitalet Bellsport, després del descans del cap de setmana passat. El conjunt llagostenc, que ha empatat els dos darrers partits que ha disputat, suma 21 punts, dos més que el Teià i tres més que l'Hospitalet Bellsport.
URI:https://www.llagosta.cat/actualitat/noticies/el-club-deportivo-la-concordia-defensa-dissabte-el-liderat-a-casa-contra-el-tercer-classificat.html
CLASS:PUBLIC
END:VEVENT
END:VCALENDAR
