BEGIN:VCALENDAR
VERSION:2.0
CALSCALE:GREGORIAN
PRODID:-//Diputació de Barcelona//DibaCMS//EN
BEGIN:VEVENT
UID:5630
DTSTAMP:20260422T213739
DTSTART:20121212T000000
DTEND:20131212T000000
SUMMARY:Demà, nova concentració del sector públic de la Llagosta en contra de les retallades
LOCATION:
METHOD:PUBLISH
X-WR-CALNAME:llagosta@llagosta.cat
X-WR-TIMEZONE:Europe/Madrid
DESCRIPTION:Empleats públics i les AMPA dels centres educatius de la Llagosta participaran demà en una nova concentració en contra de les retallades que estan aplicant els governs central i català als serveis públics i contra els drets laborals i socials. L'acte, el segon d'aquestes característiques que es farà a la nostra localitat, tindrà lloc a partir de la una del migdia a la plaça d'Antoni Baqué.
URI:https://www.llagosta.cat/actualitat/noticies/dema-nova-concentracio-del-sector-public-de-la-llagosta-en-contra-de-les-retallades.html
CLASS:PUBLIC
END:VEVENT
END:VCALENDAR
