BEGIN:VCALENDAR
VERSION:2.0
CALSCALE:GREGORIAN
PRODID:-//Diputació de Barcelona//DibaCMS//EN
BEGIN:VEVENT
UID:5629
DTSTAMP:20260423T013806
DTSTART:20121212T000000
DTEND:20131212T000000
SUMMARY:L'Ajuntament demana a tres partits que retirin la propaganda electoral del 25N
LOCATION:
METHOD:PUBLISH
X-WR-CALNAME:llagosta@llagosta.cat
X-WR-TIMEZONE:Europe/Madrid
DESCRIPTION:L'Ajuntament de la Llagosta va enviar ahir un requeriment oficial al Partit dels Socialistes de Catalunya (PSC), a Ciutadans-Partit de la Ciutadania (C's) i a Plataforma per Catalunya (PxC) per tal que en un temps màxim de tres dies retirin la respectiva propaganda electoral que hi ha als carrers del municipi.
URI:https://www.llagosta.cat/actualitat/noticies/lajuntament-demana-a-tres-partits-que-retirin-la-propaganda-electoral-del-25n.html
CLASS:PUBLIC
END:VEVENT
END:VCALENDAR
