BEGIN:VCALENDAR
VERSION:2.0
CALSCALE:GREGORIAN
PRODID:-//Diputació de Barcelona//DibaCMS//EN
BEGIN:VEVENT
UID:5628
DTSTAMP:20260422T234311
DTSTART:20121211T000000
DTEND:20131211T000000
SUMMARY:El Mercat Municipal de la Llagosta estrena les noves cambres frigorífiques
LOCATION:
METHOD:PUBLISH
X-WR-CALNAME:llagosta@llagosta.cat
X-WR-TIMEZONE:Europe/Madrid
DESCRIPTION:Els paradistes del Mercat Municipal ja disposen de les noves cambres frigorífiques. Aquesta ha estat una vella reivindicació dels concessionaris del Mercat. Les cambres han començat a funcionar aquesta setmana.
URI:https://www.llagosta.cat/actualitat/noticies/el-mercat-municipal-de-la-llagosta-estrena-les-noves-cambres-frigorifiques.html
CLASS:PUBLIC
END:VEVENT
END:VCALENDAR
