BEGIN:VCALENDAR
VERSION:2.0
CALSCALE:GREGORIAN
PRODID:-//Diputació de Barcelona//DibaCMS//EN
BEGIN:VEVENT
UID:5627
DTSTAMP:20260423T101416
DTSTART:20121211T000000
DTEND:20131211T000000
SUMMARY:Mans Unides recapta a la Llagosta 625 euros per a un projecte solidari a Serra Lleona
LOCATION:
METHOD:PUBLISH
X-WR-CALNAME:llagosta@llagosta.cat
X-WR-TIMEZONE:Europe/Madrid
DESCRIPTION:Mans Unides ha fet un balanç positiu del concert solidari que va organitzar a la Llagosta per recaptar diners per al seu projecte solidari a Serra Lleona. L'ONG va aconseguir 625 euros, fruit de l'entrada que van pagar les 125 persones adultes assistents al recital protagonitzat pel grup Gospel Montmeló el dia 1 de desembre.
URI:https://www.llagosta.cat/actualitat/noticies/mans-unides-recapta-a-la-llagosta-625-euros-per-a-un-projecte-solidari-a-serra-lleona.html
CLASS:PUBLIC
END:VEVENT
END:VCALENDAR
