BEGIN:VCALENDAR
VERSION:2.0
CALSCALE:GREGORIAN
PRODID:-//Diputació de Barcelona//DibaCMS//EN
BEGIN:VEVENT
UID:5626
DTSTAMP:20260423T041346
DTSTART:20121211T000000
DTEND:20131212T000000
SUMMARY:Obert el període d'inscripció per al concurs de pessebres que organitza l'Ajuntament
LOCATION:
METHOD:PUBLISH
X-WR-CALNAME:llagosta@llagosta.cat
X-WR-TIMEZONE:Europe/Madrid
DESCRIPTION:L'Ajuntament de la Llagosta ha obert el període d'inscripció per participar al concurs de pessebres d'aquest any. Al certamen poden participar totes les entitats i comerços de la nostra localitat que disposin de local o aparador visible per al públic. 
URI:https://www.llagosta.cat/actualitat/noticies/obert-el-periode-dinscripcio-per-al-concurs-de-pessebres-que-organitza-lajuntament.html
CLASS:PUBLIC
END:VEVENT
END:VCALENDAR
