BEGIN:VCALENDAR
VERSION:2.0
CALSCALE:GREGORIAN
PRODID:-//Diputació de Barcelona//DibaCMS//EN
BEGIN:VEVENT
UID:5625
DTSTAMP:20260422T180420
DTSTART:20121211T000000
DTEND:20131211T000000
SUMMARY:Mor de forma sobtada Juan Martínez, expresident del Club Deportivo Viejas Glorias
LOCATION:
METHOD:PUBLISH
X-WR-CALNAME:llagosta@llagosta.cat
X-WR-TIMEZONE:Europe/Madrid
DESCRIPTION:El Club Deportivo Viejas Glorias està de dol per la mort de Juan Martínez, expresident de l'entitat. Martínez va morir diumenge a conseqüència d'un infart. El seu funeral s'ha celebrat aquest matí al Tanatori de Mollet del Vallès. Juan Martínez portava molts anys vinculat al Club Deportivo Viejas Glorias i durant una època va ser el president de l'entitat. 
URI:https://www.llagosta.cat/actualitat/noticies/mor-de-forma-sobtada-juan-martinez-expresident-del-club-deportivo-viejas-glorias.html
CLASS:PUBLIC
END:VEVENT
END:VCALENDAR
