BEGIN:VCALENDAR
VERSION:2.0
CALSCALE:GREGORIAN
PRODID:-//Diputació de Barcelona//DibaCMS//EN
BEGIN:VEVENT
UID:5624
DTSTAMP:20260423T075740
DTSTART:20121210T000000
DTEND:20131210T000000
SUMMARY:Els Mossos d'Esquadra investiguen un robatori de documentació al Complex El Turó
LOCATION:
METHOD:PUBLISH
X-WR-CALNAME:llagosta@llagosta.cat
X-WR-TIMEZONE:Europe/Madrid
DESCRIPTION:La policia científica dels Mossos d'Esquadra investiga el robatori de documentació que un o uns desconeguts han comés durant la passada matinada al Complex Esportiu Municipal El Turó. Els agents han restringit l'accés a diferents zones de la instal·lació per recollir empremtes i proves per tal d'identificar la o les persones autores del robatori. 
URI:https://www.llagosta.cat/actualitat/noticies/els-mossos-desquadra-investiguen-un-robatori-de-documentacio-al-complex-el-turo.html
CLASS:PUBLIC
END:VEVENT
END:VCALENDAR
