BEGIN:VCALENDAR
VERSION:2.0
CALSCALE:GREGORIAN
PRODID:-//Diputació de Barcelona//DibaCMS//EN
BEGIN:VEVENT
UID:5623
DTSTAMP:20260422T215811
DTSTART:20121210T000000
DTEND:20131210T000000
SUMMARY:Una delegació de la Llagosta constata la situació difícil dels refugiats sahrauís
LOCATION:
METHOD:PUBLISH
X-WR-CALNAME:llagosta@llagosta.cat
X-WR-TIMEZONE:Europe/Madrid
DESCRIPTION:La delegació de la Llagosta que ha visitat els campaments de refugiats sahrauís de Tindouf, a Algèria, per portar ajuda humanitària a la població de Daora va tornar ahir a la nostra localitat. Durant la seva estada, ha pogut comprovar la situació complicada que es viu a la zona, on cada vegada arriba menys ajuda. 
URI:https://www.llagosta.cat/actualitat/noticies/una-delegacio-de-la-llagosta-constata-la-situacio-dificil-dels-refugiats-sahrauis.html
CLASS:PUBLIC
END:VEVENT
END:VCALENDAR
