BEGIN:VCALENDAR
VERSION:2.0
CALSCALE:GREGORIAN
PRODID:-//Diputació de Barcelona//DibaCMS//EN
BEGIN:VEVENT
UID:5622
DTSTAMP:20260422T215512
DTSTART:20121210T000000
DTEND:20131210T000000
SUMMARY:El Centre Cultural va acollir ahir el setè Concert per a cobla amb uns 250 espectadors
LOCATION:
METHOD:PUBLISH
X-WR-CALNAME:llagosta@llagosta.cat
X-WR-TIMEZONE:Europe/Madrid
DESCRIPTION:Unes 250 persones van assistir ahir al setè Concert per a la cobla que va organitzar l'Agrupació Sardanista de la Llagosta al Centre Cultural. La cobla Flama de Farners va ser l'encarregada d'interpretar diverses peces en el que ha estat el primer acte del programa de Nadal, Cap d'Any i Reis de la nostra localitat. 
URI:https://www.llagosta.cat/actualitat/noticies/el-centre-cultural-va-acollir-ahir-el-sete-concert-per-a-cobla-amb-uns-250-espectadors.html
CLASS:PUBLIC
END:VEVENT
END:VCALENDAR
