BEGIN:VCALENDAR
VERSION:2.0
CALSCALE:GREGORIAN
PRODID:-//Diputació de Barcelona//DibaCMS//EN
BEGIN:VEVENT
UID:5621
DTSTAMP:20260423T093744
DTSTART:20121210T000000
DTEND:20131210T000000
SUMMARY:La Unión Llagostense rebrà dissabte la visita del Sansur després de la jornada de descans
LOCATION:
METHOD:PUBLISH
X-WR-CALNAME:llagosta@llagosta.cat
X-WR-TIMEZONE:Europe/Madrid
DESCRIPTION:El Fútbol Sala Unión Llagostense tornarà a la competició dissabte després del descans del cap de setmana passat. Els llagostencs rebran la visita del Sansur.
URI:https://www.llagosta.cat/actualitat/noticies/la-union-llagostense-rebra-dissabte-la-visita-del-sansur-despres-de-la-jornada-de-descans.html
CLASS:PUBLIC
END:VEVENT
END:VCALENDAR
