BEGIN:VCALENDAR
VERSION:2.0
CALSCALE:GREGORIAN
PRODID:-//Diputació de Barcelona//DibaCMS//EN
BEGIN:VEVENT
UID:5620
DTSTAMP:20260423T031305
DTSTART:20121205T000000
DTEND:20131205T000000
SUMMARY:El Gran Recapte d'Aliments se salda a la Llagosta amb unes tres tones i mitja d'aportacions
LOCATION:
METHOD:PUBLISH
X-WR-CALNAME:llagosta@llagosta.cat
X-WR-TIMEZONE:Europe/Madrid
DESCRIPTION:A la Llagosta, es van recollir unes tres tones i mitja durant el Gran Recapte d'Aliments realitzat divendres i dissabte. Durant els dos dies, els veïns de la nostra localitat van fer les seves donacions a aquesta campanya solidària, que organitzaven la Fundació Banc dels Aliments i, a la nostra localitat, l'Ajuntament de la Llagosta i l'Institut Marina. 
URI:https://www.llagosta.cat/actualitat/noticies/el-gran-recapte-daliments-se-salda-a-la-llagosta-amb-unes-tres-tones-i-mitja-daportacions.html
CLASS:PUBLIC
END:VEVENT
END:VCALENDAR
