BEGIN:VCALENDAR
VERSION:2.0
CALSCALE:GREGORIAN
PRODID:-//Diputació de Barcelona//DibaCMS//EN
BEGIN:VEVENT
UID:5619
DTSTAMP:20260423T051704
DTSTART:20121205T000000
DTEND:20131205T000000
SUMMARY:Les parades del Mercat Municipal recullen diners per a la Marató de TV3
LOCATION:
METHOD:PUBLISH
X-WR-CALNAME:llagosta@llagosta.cat
X-WR-TIMEZONE:Europe/Madrid
DESCRIPTION:L'Associació de Concessionaris del Mercat Municipal de la Llagosta s'ha sumat novament a la iniciativa per tal de recaptar fons per a la Marató de TV3. La recollida de diners es farà des d'avui i fins al 15 de desembre. 
URI:https://www.llagosta.cat/actualitat/noticies/les-parades-del-mercat-municipal-recullen-diners-per-a-la-marato-de-tv3.html
CLASS:PUBLIC
END:VEVENT
END:VCALENDAR
