BEGIN:VCALENDAR
VERSION:2.0
CALSCALE:GREGORIAN
PRODID:-//Diputació de Barcelona//DibaCMS//EN
BEGIN:VEVENT
UID:5618
DTSTAMP:20260423T011742
DTSTART:20121205T000000
DTEND:20131205T000000
SUMMARY:L'Ajuntament distribuirà divendres el Butlletí d'Informació Municipal del mes de desembre
LOCATION:
METHOD:PUBLISH
X-WR-CALNAME:llagosta@llagosta.cat
X-WR-TIMEZONE:Europe/Madrid
DESCRIPTION:Divendres, sortirà al carrer el Butlletí d'Informació Municipal del mes de desembre amb les darreres notícies que ha generat l'Ajuntament de la Llagosta. A la contraportada, es podrà consultar la programació d'actes de Nadal, Cap d'Any i Reis.
URI:https://www.llagosta.cat/actualitat/noticies/lajuntament-distribuira-divendres-el-butlleti-dinformacio-municipal-del-mes-de-desembre.html
CLASS:PUBLIC
END:VEVENT
END:VCALENDAR
