BEGIN:VCALENDAR
VERSION:2.0
CALSCALE:GREGORIAN
PRODID:-//Diputació de Barcelona//DibaCMS//EN
BEGIN:VEVENT
UID:5617
DTSTAMP:20260422T232255
DTSTART:20121205T000000
DTEND:20131205T000000
SUMMARY:El sènior de l'EBC La Llagosta guanya amb comoditat a la pista del Santa Perpètua (53-69)
LOCATION:
METHOD:PUBLISH
X-WR-CALNAME:llagosta@llagosta.cat
X-WR-TIMEZONE:Europe/Madrid
DESCRIPTION:L'Esportiu Bàsquet Club de la Llagosta va guanyar la jornada passada el Santa Perpètua per 53 a 69. Els de la nostra localitat sumen així la sisena victòria de la temporada, segona consecutiva, i es mantenen a la part mitjana de la taula.
URI:https://www.llagosta.cat/actualitat/noticies/el-senior-de-lebc-la-llagosta-guanya-amb-comoditat-a-la-pista-del-santa-perpetua-53-69.html
CLASS:PUBLIC
END:VEVENT
END:VCALENDAR
