BEGIN:VCALENDAR
VERSION:2.0
CALSCALE:GREGORIAN
PRODID:-//Diputació de Barcelona//DibaCMS//EN
BEGIN:VEVENT
UID:5616
DTSTAMP:20260423T050822
DTSTART:20121205T000000
DTEND:20131204T000000
SUMMARY:El Joventut Handbol farà demà una jornada per recaptar fons per a la Marató
LOCATION:
METHOD:PUBLISH
X-WR-CALNAME:llagosta@llagosta.cat
X-WR-TIMEZONE:Europe/Madrid
DESCRIPTION:El Joventut Handbol La Llagosta organitzarà demà dijous diverses activitats per promoure l'handbol entre els infants i joves i per recaptar fons per a la Marató de TV3. Les activitats es desenvoluparan durant tot el dia al Poliesportiu Riera Seca.
URI:https://www.llagosta.cat/actualitat/noticies/el-joventut-handbol-fara-dema-una-jornada-per-recaptar-fons-per-a-la-marato.html
CLASS:PUBLIC
END:VEVENT
END:VCALENDAR
