BEGIN:VCALENDAR
VERSION:2.0
CALSCALE:GREGORIAN
PRODID:-//Diputació de Barcelona//DibaCMS//EN
BEGIN:VEVENT
UID:5615
DTSTAMP:20260423T110813
DTSTART:20121205T000000
DTEND:20131205T000000
SUMMARY:Diumenge, tindrà lloc el setè Concert per a cobla i es recolliran diners per a la Marató de TV3
LOCATION:
METHOD:PUBLISH
X-WR-CALNAME:llagosta@llagosta.cat
X-WR-TIMEZONE:Europe/Madrid
DESCRIPTION:L'Agrupació Sardanista de la Llagosta organitzarà diumenge el setè Concert per a cobla. L'acte estarà amenitzat per la cobla Flama de Farners. Aquesta serà la primera activitat del programa de Nadal, Cap d'Any i Reis de la nostra localitat. El concert servirà per recaptar fons per a la Marató de TV3.
URI:https://www.llagosta.cat/actualitat/noticies/diumenge-tindra-lloc-el-sete-concert-per-a-cobla-i-es-recolliran-diners-per-a-la-marato-de-tv3.html
CLASS:PUBLIC
END:VEVENT
END:VCALENDAR
