BEGIN:VCALENDAR
VERSION:2.0
CALSCALE:GREGORIAN
PRODID:-//Diputació de Barcelona//DibaCMS//EN
BEGIN:VEVENT
UID:5614
DTSTAMP:20260423T071047
DTSTART:20121204T000000
DTEND:20131204T000000
SUMMARY:Nanocosmos Teatre va estrenar el cap de setmana la seva darrera obra
LOCATION:
METHOD:PUBLISH
X-WR-CALNAME:llagosta@llagosta.cat
X-WR-TIMEZONE:Europe/Madrid
DESCRIPTION:Nanocosmos Teatre ha fet avui un balanç positiu de l'estrena de l'obra High Society, que va fer el cap de setmana passat al Centre Cultural de la Llagosta. L'obra va tenir una molt bona acollida per part del públic, que gairebé va omplir la sala els dos dies de la representació.
URI:https://www.llagosta.cat/actualitat/noticies/nanocosmos-teatre-va-estrenar-el-cap-de-setmana-la-seva-darrera-obra.html
CLASS:PUBLIC
END:VEVENT
END:VCALENDAR
