BEGIN:VCALENDAR
VERSION:2.0
CALSCALE:GREGORIAN
PRODID:-//Diputació de Barcelona//DibaCMS//EN
BEGIN:VEVENT
UID:5613
DTSTAMP:20260423T092241
DTSTART:20121204T000000
DTEND:20131204T000000
SUMMARY:El mercat ambulant de la Llagosta d'aquesta setmana tindrà lloc dimecres
LOCATION:
METHOD:PUBLISH
X-WR-CALNAME:llagosta@llagosta.cat
X-WR-TIMEZONE:Europe/Madrid
DESCRIPTION:El mercat setmanal ambulant de la Llagosta se celebrarà demà dimecres, ja que dijous és dia festiu. Per aquest motiu, els cotxes no podran estacionar des de primera hora del matí de demà dimecres als carrers on s'instal·len habitualment les parades del mercat.

URI:https://www.llagosta.cat/actualitat/noticies/el-mercat-ambulant-de-la-llagosta-daquesta-setmana-tindra-lloc-dimecres.html
CLASS:PUBLIC
END:VEVENT
END:VCALENDAR
