BEGIN:VCALENDAR
VERSION:2.0
CALSCALE:GREGORIAN
PRODID:-//Diputació de Barcelona//DibaCMS//EN
BEGIN:VEVENT
UID:5612
DTSTAMP:20260423T070948
DTSTART:20121204T000000
DTEND:20131204T000000
SUMMARY:L'Associació de Comerciants de la Llagosta estrena la seva pàgina web
LOCATION:
METHOD:PUBLISH
X-WR-CALNAME:llagosta@llagosta.cat
X-WR-TIMEZONE:Europe/Madrid
DESCRIPTION:L'Associació de Comerciants i Serveis (ACIS) de la Llagosta ja té activa la pàgina web de l'entitat. Ara, s'està treballant per omplir de continguts els serveis que oferirà als clients. El web agruparà els comerços membres d'ACIS, les campanyes, els descomptes i les activitats que s'organitzin.
URI:https://www.llagosta.cat/actualitat/noticies/lassociacio-de-comerciants-de-la-llagosta-estrena-la-seva-pagina-web.html
CLASS:PUBLIC
END:VEVENT
END:VCALENDAR
