BEGIN:VCALENDAR
VERSION:2.0
CALSCALE:GREGORIAN
PRODID:-//Diputació de Barcelona//DibaCMS//EN
BEGIN:VEVENT
UID:5611
DTSTAMP:20260423T051509
DTSTART:20121204T000000
DTEND:20131204T000000
SUMMARY:El Vallag derrota el Cambrils i diumenge col·laborarà amb la Marató de TV3
LOCATION:
METHOD:PUBLISH
X-WR-CALNAME:llagosta@llagosta.cat
X-WR-TIMEZONE:Europe/Madrid
DESCRIPTION:El sènior de l'Handbol Club Vallag de la Llagosta va sumar el cap de setmana passat la sisena victòria de la temporada. Els de la nostra localitat van vèncer per un ajustat 29 a 30 el Cambrils. Diumenge, els de Javi Iglesias rebran la visita del líder, la Salle Bonanova.
URI:https://www.llagosta.cat/actualitat/noticies/el-vallag-derrota-el-cambrils-i-diumenge-collaborara-amb-la-marato-de-tv3.html
CLASS:PUBLIC
END:VEVENT
END:VCALENDAR
