BEGIN:VCALENDAR
VERSION:2.0
CALSCALE:GREGORIAN
PRODID:-//Diputació de Barcelona//DibaCMS//EN
BEGIN:VEVENT
UID:5610
DTSTAMP:20260423T031003
DTSTART:20121204T000000
DTEND:20131204T000000
SUMMARY:El CD La Concòrdia empata amb el Riudellots a tres gols però manté el liderat
LOCATION:
METHOD:PUBLISH
X-WR-CALNAME:llagosta@llagosta.cat
X-WR-TIMEZONE:Europe/Madrid
DESCRIPTION:El Club Deportivo La Concòrdia va empatar el cap de setmana passat a tres gols a la pista del Riudellots. Les de la Llagosta es mantenen en primera posició, però ara amb només dos punts d'avantatge sobre el segon, el Teià, que ha jugat un partit menys.
URI:https://www.llagosta.cat/actualitat/noticies/el-cd-la-concordia-empata-amb-el-riudellots-a-tres-gols-pero-mante-el-liderat.html
CLASS:PUBLIC
END:VEVENT
END:VCALENDAR
