BEGIN:VCALENDAR
VERSION:2.0
CALSCALE:GREGORIAN
PRODID:-//Diputació de Barcelona//DibaCMS//EN
BEGIN:VEVENT
UID:5609
DTSTAMP:20260423T220736
DTSTART:20121204T000000
DTEND:20131204T000000
SUMMARY:La Colla Gegantera i les Llagostes de l'Avern recapten uns 400 euros per a la Marató de TV3
LOCATION:
METHOD:PUBLISH
X-WR-CALNAME:llagosta@llagosta.cat
X-WR-TIMEZONE:Europe/Madrid
DESCRIPTION:La Colla Gegantera de la Llagosta i les Llagostes de l'Avern van recaptar dissabte uns 400 euros durant les activitats que van organitzar a la plaça d'Antoni Baqué a benefici de la Marató de TV3. Les dues entitats van portar a terme diversos actes fins al migdia. 
URI:https://www.llagosta.cat/actualitat/noticies/la-colla-gegantera-i-les-llagostes-de-lavern-recapten-uns-400-euros-per-a-la-marato-de-tv3.html
CLASS:PUBLIC
END:VEVENT
END:VCALENDAR
