BEGIN:VCALENDAR
VERSION:2.0
CALSCALE:GREGORIAN
PRODID:-//Diputació de Barcelona//DibaCMS//EN
BEGIN:VEVENT
UID:5607
DTSTAMP:20260423T051629
DTSTART:20121203T000000
DTEND:20131202T000000
SUMMARY:La Llagosta va commemorar divendres el Dia internacional contra la violència vers les dones
LOCATION:
METHOD:PUBLISH
X-WR-CALNAME:llagosta@llagosta.cat
X-WR-TIMEZONE:Europe/Madrid
DESCRIPTION:Divendres es va commemorar a la Llagosta el Dia internacional contra la violència vers les dones. Al matí, el Centre Cultural va acollir una jornada formativa per a professionals i, a la tarda, hi va tenir lloc un espectacle de dansa i teatre, més la lectura del manifest sota el lema Això no és un joc!
URI:https://www.llagosta.cat/actualitat/noticies/la-llagosta-va-commemorar-divendres-el-dia-internacional-contra-la-violencia-vers-les-dones.html
CLASS:PUBLIC
END:VEVENT
END:VCALENDAR
