BEGIN:VCALENDAR
VERSION:2.0
CALSCALE:GREGORIAN
PRODID:-//Diputació de Barcelona//DibaCMS//EN
BEGIN:VEVENT
UID:5606
DTSTAMP:20260423T182910
DTSTART:20121203T000000
DTEND:20131203T000000
SUMMARY:El segon Mercat Solidari, celebrat dissabte a la plaça d'Antoni Baqué, va atreure força públic 
LOCATION:
METHOD:PUBLISH
X-WR-CALNAME:llagosta@llagosta.cat
X-WR-TIMEZONE:Europe/Madrid
DESCRIPTION:Un bon nombre de persones van passar dissabte per la plaça d'Antoni Baqué per comprar al segon Mercat Solidari organitzat pel col·lectiu d'AMPA de la nostra localitat i col·laborar d'aquesta manera amb la Marató de TV3. A falta de fer el recompte final, els organitzadors calculen que han recaptat uns 1.400 euros.
URI:https://www.llagosta.cat/actualitat/noticies/el-segon-mercat-solidari-celebrat-dissabte-a-la-placa-dantoni-baque-va-atreure-forca-public-.html
CLASS:PUBLIC
END:VEVENT
END:VCALENDAR
